BEGIN:VCALENDAR
VERSION:2.0
PRODID:-//7th Day Congregation Eddy Texas - ECPv6.15.20//NONSGML v1.0//EN
CALSCALE:GREGORIAN
METHOD:PUBLISH
X-WR-CALNAME:7th Day Congregation Eddy Texas
X-ORIGINAL-URL:https://7thdayce.org
X-WR-CALDESC:Events for 7th Day Congregation Eddy Texas
REFRESH-INTERVAL;VALUE=DURATION:PT1H
X-Robots-Tag:noindex
X-PUBLISHED-TTL:PT1H
BEGIN:VTIMEZONE
TZID:America/Chicago
BEGIN:DAYLIGHT
TZOFFSETFROM:-0600
TZOFFSETTO:-0500
TZNAME:CDT
DTSTART:20240310T080000
END:DAYLIGHT
BEGIN:STANDARD
TZOFFSETFROM:-0500
TZOFFSETTO:-0600
TZNAME:CST
DTSTART:20241103T070000
END:STANDARD
BEGIN:DAYLIGHT
TZOFFSETFROM:-0600
TZOFFSETTO:-0500
TZNAME:CDT
DTSTART:20250309T080000
END:DAYLIGHT
BEGIN:STANDARD
TZOFFSETFROM:-0500
TZOFFSETTO:-0600
TZNAME:CST
DTSTART:20251102T070000
END:STANDARD
BEGIN:DAYLIGHT
TZOFFSETFROM:-0600
TZOFFSETTO:-0500
TZNAME:CDT
DTSTART:20260308T080000
END:DAYLIGHT
BEGIN:STANDARD
TZOFFSETFROM:-0500
TZOFFSETTO:-0600
TZNAME:CST
DTSTART:20261101T070000
END:STANDARD
END:VTIMEZONE
BEGIN:VEVENT
DTSTART;TZID=America/Chicago:20251004T130000
DTEND;TZID=America/Chicago:20251004T130000
DTSTAMP:20260419T215017
CREATED:20250730T184655Z
LAST-MODIFIED:20260303T172716Z
UID:1471-1759582800-1759582800@7thdayce.org
SUMMARY:Sabbath Services
DESCRIPTION:
URL:https://7thdayce.org/event/sabbath-services-100425/
LOCATION:7th Day Congregation Eddy\, 1015 Eagle Drive\, Eddy\, TX\, 76524\, United States
CATEGORIES:Service Information
END:VEVENT
BEGIN:VEVENT
DTSTART;VALUE=DATE:20251005
DTEND;VALUE=DATE:20251012
DTSTAMP:20260419T215017
CREATED:20250730T194354Z
LAST-MODIFIED:20250730T194504Z
UID:1513-1759622400-1760227199@7thdayce.org
SUMMARY:Feast of Tabernacles
DESCRIPTION:
URL:https://7thdayce.org/event/feast-of-tabernacles-2025/
LOCATION:7th Day Congregation Eddy\, 1015 Eagle Drive\, Eddy\, TX\, 76524\, United States
CATEGORIES:Service Information
ATTACH;FMTTYPE=image/jpeg:https://7thdayce.org/wp-content/uploads/2020/08/tabernacles.jpg
END:VEVENT
BEGIN:VEVENT
DTSTART;TZID=America/Chicago:20251005T130000
DTEND;TZID=America/Chicago:20251005T130000
DTSTAMP:20260419T215017
CREATED:20250915T143245Z
LAST-MODIFIED:20250915T143555Z
UID:1524-1759669200-1759669200@7thdayce.org
SUMMARY:Services
DESCRIPTION:
URL:https://7thdayce.org/event/feast-of-tabernacles-services/
LOCATION:7th Day Congregation Eddy\, 1015 Eagle Drive\, Eddy\, TX\, 76524\, United States
CATEGORIES:Service Information
ATTACH;FMTTYPE=image/jpeg:https://7thdayce.org/wp-content/uploads/2020/08/tabernacles.jpg
END:VEVENT
BEGIN:VEVENT
DTSTART;VALUE=DATE:20251006
DTEND;VALUE=DATE:20251007
DTSTAMP:20260419T215017
CREATED:20250915T143626Z
LAST-MODIFIED:20250915T143830Z
UID:1528-1759708800-1759795199@7thdayce.org
SUMMARY:Field Trip
DESCRIPTION:To be announced
URL:https://7thdayce.org/event/feast-of-tabernacles-field-trip/
LOCATION:7th Day Congregation Eddy\, 1015 Eagle Drive\, Eddy\, TX\, 76524\, United States
CATEGORIES:Service Information
ATTACH;FMTTYPE=image/jpeg:https://7thdayce.org/wp-content/uploads/2020/08/tabernacles.jpg
END:VEVENT
BEGIN:VEVENT
DTSTART;VALUE=DATE:20251007
DTEND;VALUE=DATE:20251008
DTSTAMP:20260419T215017
CREATED:20250915T143736Z
LAST-MODIFIED:20250915T143812Z
UID:1530-1759795200-1759881599@7thdayce.org
SUMMARY:Free Day
DESCRIPTION:
URL:https://7thdayce.org/event/feast-of-tabernacles-free-day/
LOCATION:7th Day Congregation Eddy\, 1015 Eagle Drive\, Eddy\, TX\, 76524\, United States
CATEGORIES:Service Information
ATTACH;FMTTYPE=image/jpeg:https://7thdayce.org/wp-content/uploads/2020/08/tabernacles.jpg
END:VEVENT
BEGIN:VEVENT
DTSTART;TZID=America/Chicago:20251008T130000
DTEND;TZID=America/Chicago:20251008T130000
DTSTAMP:20260419T215017
CREATED:20250915T143904Z
LAST-MODIFIED:20250915T143935Z
UID:1532-1759928400-1759928400@7thdayce.org
SUMMARY:Services
DESCRIPTION:
URL:https://7thdayce.org/event/feast-of-tabernacles-services-2/
LOCATION:7th Day Congregation Eddy\, 1015 Eagle Drive\, Eddy\, TX\, 76524\, United States
CATEGORIES:Service Information
ATTACH;FMTTYPE=image/jpeg:https://7thdayce.org/wp-content/uploads/2020/08/tabernacles.jpg
END:VEVENT
BEGIN:VEVENT
DTSTART;VALUE=DATE:20251009
DTEND;VALUE=DATE:20251010
DTSTAMP:20260419T215017
CREATED:20250915T143948Z
LAST-MODIFIED:20250915T144016Z
UID:1534-1759968000-1760054399@7thdayce.org
SUMMARY:Free Day
DESCRIPTION:
URL:https://7thdayce.org/event/feast-of-tabernacles-free-day-2/
LOCATION:7th Day Congregation Eddy\, 1015 Eagle Drive\, Eddy\, TX\, 76524\, United States
CATEGORIES:Service Information
ATTACH;FMTTYPE=image/jpeg:https://7thdayce.org/wp-content/uploads/2020/08/tabernacles.jpg
END:VEVENT
BEGIN:VEVENT
DTSTART;TZID=America/Chicago:20251010T170000
DTEND;TZID=America/Chicago:20251010T210000
DTSTAMP:20260419T215017
CREATED:20250915T144048Z
LAST-MODIFIED:20250915T144147Z
UID:1536-1760115600-1760130000@7thdayce.org
SUMMARY:Meal & Bible Study
DESCRIPTION:No services – Meal 5pm-7pm\, Bible Study 7pm-9pm
URL:https://7thdayce.org/event/feast-of-tabernacles-meal-and-bible-study/
LOCATION:7th Day Congregation Eddy\, 1015 Eagle Drive\, Eddy\, TX\, 76524\, United States
CATEGORIES:Service Information
ATTACH;FMTTYPE=image/jpeg:https://7thdayce.org/wp-content/uploads/2020/08/tabernacles.jpg
END:VEVENT
BEGIN:VEVENT
DTSTART;TZID=America/Chicago:20251011T130000
DTEND;TZID=America/Chicago:20251011T130000
DTSTAMP:20260419T215017
CREATED:20250730T185340Z
LAST-MODIFIED:20260303T172717Z
UID:1475-1760187600-1760187600@7thdayce.org
SUMMARY:Sabbath Services
DESCRIPTION:
URL:https://7thdayce.org/event/sabbath-services-101125/
LOCATION:7th Day Congregation Eddy\, 1015 Eagle Drive\, Eddy\, TX\, 76524\, United States
CATEGORIES:Service Information
END:VEVENT
BEGIN:VEVENT
DTSTART;VALUE=DATE:20251012
DTEND;VALUE=DATE:20251013
DTSTAMP:20260419T215017
CREATED:20250730T194525Z
LAST-MODIFIED:20250730T194554Z
UID:1515-1760227200-1760313599@7thdayce.org
SUMMARY:Last Great Day
DESCRIPTION:Services begin at 1pm
URL:https://7thdayce.org/event/last-great-day-2025/
LOCATION:7th Day Congregation Eddy\, 1015 Eagle Drive\, Eddy\, TX\, 76524\, United States
CATEGORIES:Service Information
ATTACH;FMTTYPE=image/jpeg:https://7thdayce.org/wp-content/uploads/2020/08/lastday.jpg
END:VEVENT
BEGIN:VEVENT
DTSTART;TZID=America/Chicago:20251012T130000
DTEND;TZID=America/Chicago:20251012T130000
DTSTAMP:20260419T215017
CREATED:20250915T144159Z
LAST-MODIFIED:20250915T144321Z
UID:1538-1760274000-1760274000@7thdayce.org
SUMMARY:Services
DESCRIPTION:
URL:https://7thdayce.org/event/feast-of-tabernacles-services-3/
LOCATION:7th Day Congregation Eddy\, 1015 Eagle Drive\, Eddy\, TX\, 76524\, United States
CATEGORIES:Service Information
ATTACH;FMTTYPE=image/jpeg:https://7thdayce.org/wp-content/uploads/2020/08/tabernacles.jpg
END:VEVENT
BEGIN:VEVENT
DTSTART;TZID=America/Chicago:20251018T130000
DTEND;TZID=America/Chicago:20251018T130000
DTSTAMP:20260419T215017
CREATED:20250730T192459Z
LAST-MODIFIED:20260303T172718Z
UID:1479-1760792400-1760792400@7thdayce.org
SUMMARY:Sabbath Services
DESCRIPTION:
URL:https://7thdayce.org/event/sabbath-services-101825/
LOCATION:7th Day Congregation Eddy\, 1015 Eagle Drive\, Eddy\, TX\, 76524\, United States
CATEGORIES:Service Information
END:VEVENT
BEGIN:VEVENT
DTSTART;TZID=America/Chicago:20251025T130000
DTEND;TZID=America/Chicago:20251025T130000
DTSTAMP:20260419T215017
CREATED:20250730T192644Z
LAST-MODIFIED:20260303T172720Z
UID:1482-1761397200-1761397200@7thdayce.org
SUMMARY:Sabbath Services
DESCRIPTION:
URL:https://7thdayce.org/event/sabbath-services-102525/
LOCATION:7th Day Congregation Eddy\, 1015 Eagle Drive\, Eddy\, TX\, 76524\, United States
CATEGORIES:Service Information
END:VEVENT
END:VCALENDAR