BEGIN:VCALENDAR
VERSION:2.0
PRODID:-//7th Day Congregation Eddy Texas - ECPv6.15.20//NONSGML v1.0//EN
CALSCALE:GREGORIAN
METHOD:PUBLISH
X-ORIGINAL-URL:https://7thdayce.org
X-WR-CALDESC:Events for 7th Day Congregation Eddy Texas
REFRESH-INTERVAL;VALUE=DURATION:PT1H
X-Robots-Tag:noindex
X-PUBLISHED-TTL:PT1H
BEGIN:VTIMEZONE
TZID:America/Chicago
BEGIN:DAYLIGHT
TZOFFSETFROM:-0600
TZOFFSETTO:-0500
TZNAME:CDT
DTSTART:20240310T080000
END:DAYLIGHT
BEGIN:STANDARD
TZOFFSETFROM:-0500
TZOFFSETTO:-0600
TZNAME:CST
DTSTART:20241103T070000
END:STANDARD
BEGIN:DAYLIGHT
TZOFFSETFROM:-0600
TZOFFSETTO:-0500
TZNAME:CDT
DTSTART:20250309T080000
END:DAYLIGHT
BEGIN:STANDARD
TZOFFSETFROM:-0500
TZOFFSETTO:-0600
TZNAME:CST
DTSTART:20251102T070000
END:STANDARD
BEGIN:DAYLIGHT
TZOFFSETFROM:-0600
TZOFFSETTO:-0500
TZNAME:CDT
DTSTART:20260308T080000
END:DAYLIGHT
BEGIN:STANDARD
TZOFFSETFROM:-0500
TZOFFSETTO:-0600
TZNAME:CST
DTSTART:20261101T070000
END:STANDARD
END:VTIMEZONE
BEGIN:VEVENT
DTSTART;TZID=America/Chicago:20251206T130000
DTEND;TZID=America/Chicago:20251206T130000
DTSTAMP:20260422T131637
CREATED:20250730T194032Z
LAST-MODIFIED:20260303T172727Z
UID:1501-1765026000-1765026000@7thdayce.org
SUMMARY:Sabbath Services
DESCRIPTION:
URL:https://7thdayce.org/event/sabbath-services-120625/
LOCATION:7th Day Congregation Eddy\, 1015 Eagle Drive\, Eddy\, TX\, 76524\, United States
CATEGORIES:Service Information
END:VEVENT
BEGIN:VEVENT
DTSTART;TZID=America/Chicago:20251213T130000
DTEND;TZID=America/Chicago:20251213T130000
DTSTAMP:20260422T131637
CREATED:20250730T194118Z
LAST-MODIFIED:20260303T172729Z
UID:1504-1765630800-1765630800@7thdayce.org
SUMMARY:Sabbath Services
DESCRIPTION:
URL:https://7thdayce.org/event/sabbath-services-121325/
LOCATION:7th Day Congregation Eddy\, 1015 Eagle Drive\, Eddy\, TX\, 76524\, United States
CATEGORIES:Service Information
END:VEVENT
BEGIN:VEVENT
DTSTART;TZID=America/Chicago:20251220T130000
DTEND;TZID=America/Chicago:20251220T130000
DTSTAMP:20260422T131637
CREATED:20250730T194201Z
LAST-MODIFIED:20260303T172730Z
UID:1507-1766235600-1766235600@7thdayce.org
SUMMARY:Sabbath Services
DESCRIPTION:
URL:https://7thdayce.org/event/sabbath-services-122025/
LOCATION:7th Day Congregation Eddy\, 1015 Eagle Drive\, Eddy\, TX\, 76524\, United States
CATEGORIES:Service Information
END:VEVENT
BEGIN:VEVENT
DTSTART;TZID=America/Chicago:20251227T130000
DTEND;TZID=America/Chicago:20251227T130000
DTSTAMP:20260422T131637
CREATED:20250730T194242Z
LAST-MODIFIED:20260303T172731Z
UID:1510-1766840400-1766840400@7thdayce.org
SUMMARY:Sabbath Services
DESCRIPTION:
URL:https://7thdayce.org/event/sabbath-services-122725/
LOCATION:7th Day Congregation Eddy\, 1015 Eagle Drive\, Eddy\, TX\, 76524\, United States
CATEGORIES:Service Information
END:VEVENT
END:VCALENDAR